BEGIN:VCALENDAR
VERSION:2.0
PRODID:-//ChamberMaster//Event Calendar 2.0//EN
METHOD:PUBLISH
X-PUBLISHED-TTL:P3D
REFRESH-INTERVAL:P3D
CALSCALE:GREGORIAN
BEGIN:VEVENT
DTSTART:20251108T140000Z
DTEND:20251108T170000Z
X-MICROSOFT-CDO-ALLDAYEVENT:FALSE
SUMMARY:Old-Fashioned Christmas Event with Santa
DESCRIPTION:Celebrate the season at the Bartow History Museum's annual Old-Fashioned Christmas Event with Santa! Families can meet Santa Claus for festive photo opportunities\, enjoy Christmas cookies\, candy\, and treats\, listen to classic holiday stories\, watch holiday cartoons\, and make crafts with the museum elves. Photography is provided in partnership with Louis Tonsmeire Studio. Reservations are required. For more information\, call (770) 382-3818. Enjoy a morning full of holiday cheer\, sweet treats\, and timeless Christmas magic!
X-ALT-DESC;FMTTYPE=text/html:Celebrate the season at the Bartow History Museum&rsquo\;s annual Old-Fashioned Christmas Event with Santa! Families can meet Santa Claus for festive photo opportunities\, enjoy Christmas cookies\, candy\, and treats\, listen to classic holiday stories\, watch holiday cartoons\, and make crafts with the museum elves. Photography is provided in partnership with Louis Tonsmeire Studio. Reservations are required. For more information\, call (770) 382-3818. Enjoy a morning full of holiday cheer\, sweet treats\, and timeless Christmas magic!
LOCATION:4 E Church St. Cartersville\, GA 30120
UID:e.1202.171924
SEQUENCE:3
DTSTAMP:20260421T231434Z
URL:https://business.cartersvillechamber.com/events/details/old-fashioned-christmas-event-with-santa-171924
END:VEVENT

END:VCALENDAR
