BEGIN:VCALENDAR
VERSION:2.0
PRODID:-//ChamberMaster//Event Calendar 2.0//EN
METHOD:PUBLISH
X-PUBLISHED-TTL:P3D
REFRESH-INTERVAL:P3D
CALSCALE:GREGORIAN
BEGIN:VEVENT
DTSTART:20240722T130000Z
DTEND:20240726T160000Z
X-MICROSOFT-CDO-ALLDAYEVENT:FALSE
SUMMARY:Olympians Summer Camp
DESCRIPTION:Think you have what it takes to be an Olympian? From the ancient Olympic games of Greece to the modern era\, join us for a week brimming with Olympic-themed activities and crafts\, culminating in the opening night of the Summer 2024 Olympic games. *This camp is tailored for children aged 8 to 10 years old.
X-ALT-DESC;FMTTYPE=text/html:Think you have what it takes to be an Olympian? From the ancient Olympic games of Greece to the modern era\, join us for a week brimming with Olympic-themed activities and crafts\, culminating in the opening night of the Summer 2024 Olympic games. *This camp is tailored for children aged 8 to 10 years old.
LOCATION:Bartow History Museum 4 E. Church Street Cartersville\, GA 30120
UID:e.1202.164326
SEQUENCE:3
DTSTAMP:20260422T214223Z
URL:https://business.cartersvillechamber.com/events/details/olympians-summer-camp-164326
END:VEVENT

END:VCALENDAR
