BEGIN:VCALENDAR
VERSION:2.0
PRODID:-//ChamberMaster//Event Calendar 2.0//EN
METHOD:PUBLISH
X-PUBLISHED-TTL:P3D
REFRESH-INTERVAL:P3D
CALSCALE:GREGORIAN
BEGIN:VEVENT
DTSTART:20241210T000000Z
DTEND:20241210T030000Z
X-MICROSOFT-CDO-ALLDAYEVENT:FALSE
SUMMARY:Open Mic- Sixes Tavern
DESCRIPTION:If you or someone you know is musically talented come on in to Sixes Tavern and show your talent off on Open Mic night!
X-ALT-DESC;FMTTYPE=text/html:If you or someone you know is musically talented come on in to Sixes Tavern and show your talent off on Open Mic night!
LOCATION:650 Henderson Dr. Cartersville\, GA 30120
UID:e.1202.167633
SEQUENCE:3
DTSTAMP:20260422T144428Z
URL:https://business.cartersvillechamber.com/events/details/open-mic-sixes-tavern-12-09-2024-167633
END:VEVENT

END:VCALENDAR
