BEGIN:VCALENDAR
VERSION:2.0
PRODID:-//ChamberMaster//Event Calendar 2.0//EN
METHOD:PUBLISH
X-PUBLISHED-TTL:P3D
REFRESH-INTERVAL:P3D
CALSCALE:GREGORIAN
BEGIN:VEVENT
DTSTART:20240617T230000Z
DTEND:20240618T020000Z
X-MICROSOFT-CDO-ALLDAYEVENT:FALSE
SUMMARY:Open Mic- Sixes Tavern
DESCRIPTION:If you or someone you know is musically talented come on in to Sixes Tavern and show your talent off on Open Mic night!
X-ALT-DESC;FMTTYPE=text/html:If you or someone you know is musically talented come on in to Sixes Tavern and show your talent off on Open Mic night!
LOCATION:650 Henderson Dr Cartersville\, GA30120
UID:e.1202.165932
SEQUENCE:3
DTSTAMP:20260422T230847Z
URL:https://business.cartersvillechamber.com/events/details/open-mic-sixes-tavern-165932
END:VEVENT

END:VCALENDAR
