BEGIN:VCALENDAR
VERSION:2.0
PRODID:-//ChamberMaster//Event Calendar 2.0//EN
METHOD:PUBLISH
X-PUBLISHED-TTL:P3D
REFRESH-INTERVAL:P3D
CALSCALE:GREGORIAN
BEGIN:VEVENT
DTSTART:20251006T210000Z
DTEND:20251006T220000Z
X-MICROSOFT-CDO-ALLDAYEVENT:FALSE
SUMMARY:Opening Reception: Gallery Below the Bridge
DESCRIPTION:Join us Under The Bridge as we reveal our latest show featuring photography from LIVE2540 and the LOVE. Store. We all know and love the LOVE shirts\, but did you know those shirt sales have provided more than 7 MILLION meals in Liberia and beyond? Join us Under The Bridge to celebrate this globally reaching local organization as we see the world through other eyes in the latest installment of the Gallery Below the Bridge!
X-ALT-DESC;FMTTYPE=text/html:Join us Under The Bridge as we reveal our latest show featuring photography from LIVE2540 and the LOVE. Store. We all know and love the LOVE shirts\, but did you know those shirt sales have provided more than 7 MILLION meals in Liberia and beyond? Join us Under The Bridge to celebrate this globally reaching local organization as we see the world through other eyes in the latest installment of the Gallery Below the Bridge!
LOCATION:LIVE 2540: Under the Church St Bridge
UID:e.1202.171843
SEQUENCE:3
DTSTAMP:20260422T003622Z
URL:https://business.cartersvillechamber.com/events/details/opening-reception-gallery-below-the-bridge-171843
END:VEVENT

END:VCALENDAR
