BEGIN:VCALENDAR
VERSION:2.0
PRODID:-//ChamberMaster//Event Calendar 2.0//EN
METHOD:PUBLISH
X-PUBLISHED-TTL:P3D
REFRESH-INTERVAL:P3D
CALSCALE:GREGORIAN
BEGIN:VEVENT
DTSTART:20251107T200000Z
DTEND:20251107T220000Z
X-MICROSOFT-CDO-ALLDAYEVENT:FALSE
SUMMARY:Orienteering and Land Navigation
DESCRIPTION:Knowing how to read a map and effectively navigate using only a compass is a great skill to have. Start preparing for an emergency BEFORE it happens. We have the experience and know-how to get you up to speed! If this is something that you would like to know how to do\, simply navigate your way to the Tennis Courts by the Trading Post. This is a 2-hour program with some moderately strenuous off-trail hiking. Wear proper footwear. Maps and compasses will be provided.
X-ALT-DESC;FMTTYPE=text/html:Knowing how to read a map and effectively navigate using only a compass is a great skill to have. Start preparing for an emergency BEFORE it happens. We have the experience and know-how to get you up to speed! If this is something that you would like to know how to do\, simply navigate your way to the Tennis Courts by the Trading Post. This is a 2-hour program with some moderately strenuous off-trail hiking. Wear proper footwear. Maps and compasses will be provided.
LOCATION:Red Top Mountain State Park 659 Red Top Mountain Rd Acworth\, Ga 30102
UID:e.1202.172034
SEQUENCE:3
DTSTAMP:20260421T231024Z
URL:https://business.cartersvillechamber.com/events/details/orienteering-and-land-navigation-172034
END:VEVENT

END:VCALENDAR
