BEGIN:VCALENDAR
VERSION:2.0
PRODID:-//ChamberMaster//Event Calendar 2.0//EN
METHOD:PUBLISH
X-PUBLISHED-TTL:P3D
REFRESH-INTERVAL:P3D
CALSCALE:GREGORIAN
BEGIN:VEVENT
DTSTART:20240611T000000Z
DTEND:20240611T210000Z
X-MICROSOFT-CDO-ALLDAYEVENT:FALSE
SUMMARY:OSHA 10 Hour Training
DESCRIPTION:This is a two day course that provides general industry workers information about their rights\, employer responsibilities as well as how to identify\, abate\, avoid and prevent job related hazards. The training covers a variety of general industry safety and health hazards which a worker may encounter. The training emphasizes hazard identification\, avoidance\, control and prevention. Course Scope: - Introduction to OSHA - Walking & Working Surfaces - Exit Routes\, Emergency Action Plans\, Fire Prevention Plans & Fire Protection - Electrical - Personal Protective Equipment - Hazard Communication - Bloodborne Pathogens - Fall Protection - Injury & Illness Recordkeeping
X-ALT-DESC;FMTTYPE=text/html:This is a two day course that provides general industry workers information about their rights\, employer responsibilities as well as how to identify\, abate\, avoid and prevent job related hazards. The training covers a variety of general industry safety and health hazards which a worker may encounter. The training emphasizes hazard identification\, avoidance\, control and prevention. Course Scope: - Introduction to OSHA - Walking &amp\; Working Surfaces - Exit Routes\, Emergency Action Plans\, Fire Prevention Plans &amp\; Fire Protection - Electrical - Personal Protective Equipment - Hazard Communication - Bloodborne Pathogens - Fall Protection - Injury &amp\; Illness Recordkeeping
LOCATION:GHC Cartersville Campus
UID:e.1202.164393
SEQUENCE:3
DTSTAMP:20260422T230728Z
URL:https://business.cartersvillechamber.com/events/details/osha-10-hour-training-164393
END:VEVENT

END:VCALENDAR
