BEGIN:VCALENDAR
VERSION:2.0
PRODID:-//ChamberMaster//Event Calendar 2.0//EN
METHOD:PUBLISH
X-PUBLISHED-TTL:P3D
REFRESH-INTERVAL:P3D
CALSCALE:GREGORIAN
BEGIN:VEVENT
DTSTART:20240611T000000Z
DTEND:20240613T210000Z
X-MICROSOFT-CDO-ALLDAYEVENT:FALSE
SUMMARY:OSHA 30 Hour Training
DESCRIPTION:This 30-Hour General Industry Training Program covers a variety of topics. The class covers OSHA policies\, procedures\, and standards\, as well as general industry safety and health principles. Attendees will be able to identify the most common hazards in their workplaces\, locate the applicable OSHA general industry standard\, and determine appropriate abatement methods to address non-compliance with these standards. Those who complete the course will receive an OSHA Outreach Training Program Course Completion card.
X-ALT-DESC;FMTTYPE=text/html:This 30-Hour General Industry Training Program covers a variety of topics. The class covers OSHA policies\, procedures\, and standards\, as well as general industry safety and health principles. Attendees will be able to identify the most common hazards in their workplaces\, locate the applicable OSHA general industry standard\, and determine appropriate abatement methods to address non-compliance with these standards. Those who complete the course will receive an OSHA Outreach Training Program Course Completion card.
LOCATION:GHC Cartersville Campus
UID:e.1202.164394
SEQUENCE:3
DTSTAMP:20260422T230704Z
URL:https://business.cartersvillechamber.com/events/details/osha-30-hour-training-164394
END:VEVENT

END:VCALENDAR
