BEGIN:VCALENDAR
VERSION:2.0
PRODID:-//ChamberMaster//Event Calendar 2.0//EN
METHOD:PUBLISH
X-PUBLISHED-TTL:P3D
REFRESH-INTERVAL:P3D
CALSCALE:GREGORIAN
BEGIN:VEVENT
DTSTART:20240503T213000Z
DTEND:20240504T003000Z
X-MICROSOFT-CDO-ALLDAYEVENT:FALSE
SUMMARY:Parents’ Night Out
DESCRIPTION:Parents\, need a break? Drop off your kids (aged 4-13 [must be potty trained]) for a fun-filled "Parent's Night Out" with Woodland Basketball's coaches and players. While you relax\, they'll learn basketball basics and have a blast. Don't miss this chance for a stress-free evening! Scan the QR code or visit our website at woodland-hoops.square.site for more information and to register.
X-ALT-DESC;FMTTYPE=text/html:Parents\, need a break? Drop off your kids (aged 4-13 [must be potty trained]) for a fun-filled &quot\;Parent&#39\;s Night Out&quot\; with Woodland Basketball&#39\;s coaches and players. While you relax\, they&#39\;ll learn basketball basics and have a blast. Don&#39\;t miss this chance for a stress-free evening! Scan the QR code or visit our website at woodland-hoops.square.site for more information and to register.
LOCATION:Woodland High School 800 Old Alabama Road SW Cartersville\, GA 30120
UID:e.1202.164347
SEQUENCE:3
DTSTAMP:20260423T003859Z
URL:https://business.cartersvillechamber.com/events/details/parents-night-out-164347
END:VEVENT

END:VCALENDAR
