BEGIN:VCALENDAR
VERSION:2.0
PRODID:-//ChamberMaster//Event Calendar 2.0//EN
METHOD:PUBLISH
X-PUBLISHED-TTL:P3D
REFRESH-INTERVAL:P3D
CALSCALE:GREGORIAN
BEGIN:VEVENT
DTSTART:20260213T133000Z
DTEND:20260213T180000Z
X-MICROSOFT-CDO-ALLDAYEVENT:FALSE
SUMMARY:Partners in Education
DESCRIPTION:A workshop for employers who are either interested in beginning an internship program or improve their existing internship program. Continental breakfast and lunch included!
X-ALT-DESC;FMTTYPE=text/html:A workshop for employers who are either interested in beginning an internship program or improve their existing internship program. Continental breakfast and lunch included!
LOCATION:Georgia Highlands College
UID:e.1202.172668
SEQUENCE:3
DTSTAMP:20260421T184644Z
URL:https://business.cartersvillechamber.com/events/details/partners-in-education-172668
END:VEVENT

END:VCALENDAR
