BEGIN:VCALENDAR
VERSION:2.0
PRODID:-//ChamberMaster//Event Calendar 2.0//EN
METHOD:PUBLISH
X-PUBLISHED-TTL:P3D
REFRESH-INTERVAL:P3D
CALSCALE:GREGORIAN
BEGIN:VEVENT
DTSTART:20260105T140000Z
DTEND:20260105T210000Z
X-MICROSOFT-CDO-ALLDAYEVENT:FALSE
SUMMARY:Patient Care Technician (Through 5/20/26)
DESCRIPTION:The Patient Care Technician (PCT) program prepares individuals to become integral members of healthcare teams by equipping them with the essential skills needed to assist Registered Nurses (RNs) in providing direct patient care. This program focuses on practical training in both outpatient and inpatient environments\, enabling trainees to perform tasks such as taking vital signs\, assisting with daily living activities\, supporting medical procedures\, and ensuring patient safety. Upon successful completion and certification by the National Healthcare Association (NHA)\, PCTs will play a critical role in enhancing patient experiences and outcomes. The program responds to the growing demand for skilled patient care professionals and supports the effective delivery of healthcare across diverse settings.
X-ALT-DESC;FMTTYPE=text/html:The Patient Care Technician (PCT) program prepares individuals to become integral members of healthcare teams by equipping them with the essential skills needed to assist Registered Nurses (RNs) in providing direct patient care. This program focuses on practical training in both outpatient and inpatient environments\, enabling trainees to perform tasks such as taking vital signs\, assisting with daily living activities\, supporting medical procedures\, and ensuring patient safety. Upon successful completion and certification by the National Healthcare Association (NHA)\, PCTs will play a critical role in enhancing patient experiences and outcomes. The program responds to the growing demand for skilled patient care professionals and supports the effective delivery of healthcare across diverse settings.
LOCATION:GHC Cartersville Campus
UID:e.1202.171855
SEQUENCE:3
DTSTAMP:20260421T201516Z
URL:https://business.cartersvillechamber.com/events/details/patient-care-technician-through-5-20-26-171855
END:VEVENT

END:VCALENDAR
