BEGIN:VCALENDAR
VERSION:2.0
PRODID:-//ChamberMaster//Event Calendar 2.0//EN
METHOD:PUBLISH
X-PUBLISHED-TTL:P3D
REFRESH-INTERVAL:P3D
CALSCALE:GREGORIAN
BEGIN:VEVENT
DTSTART:20251123T000000Z
DTEND:20251123T020000Z
X-MICROSOFT-CDO-ALLDAYEVENT:FALSE
SUMMARY:Peter and The Starcatcher
DESCRIPTION:A performance of the play "Peter and The Starcatcher" presented by actors from Woodland High School and members of ITS Troupe 5873. Peter and the Starcatcher is a Peter Pan origin story\, in which the audience is introduced to characters such as Molly Aster\, Black Stache\, Mrs. Bumbrake\, Prentiss\, Smee\, Peter\, and many others.
X-ALT-DESC;FMTTYPE=text/html:A performance of the play &quot\;Peter and The Starcatcher&quot\; presented by actors from Woodland High School and members of ITS Troupe 5873. Peter and the Starcatcher is a Peter Pan origin story\, in which the audience is introduced to characters such as Molly Aster\, Black Stache\, Mrs. Bumbrake\, Prentiss\, Smee\, Peter\, and many others.
LOCATION:800 Old Alabama Rd SE\, Cartersville\, GA 30120
UID:e.1202.171723
SEQUENCE:3
DTSTAMP:20260421T231331Z
URL:https://business.cartersvillechamber.com/events/details/peter-and-the-starcatcher-11-22-2025-171723
END:VEVENT

END:VCALENDAR
