BEGIN:VCALENDAR
VERSION:2.0
PRODID:-//ChamberMaster//Event Calendar 2.0//EN
METHOD:PUBLISH
X-PUBLISHED-TTL:P3D
REFRESH-INTERVAL:P3D
CALSCALE:GREGORIAN
BEGIN:VEVENT
DTSTART:20251123T190000Z
DTEND:20251123T210000Z
X-MICROSOFT-CDO-ALLDAYEVENT:FALSE
SUMMARY:Pewter Pour
DESCRIPTION:Discover how pewter is heated and used for castings. Create your own souvenir using pre-made molds or design one from scratch. Visit the picnic tables located behind the Visitors Center.
X-ALT-DESC;FMTTYPE=text/html:Discover how pewter is heated and used for castings. Create your own souvenir using pre-made molds or design one from scratch. Visit the picnic tables located behind the Visitors Center.
LOCATION:Red Top Mountain State Park 50 Lodge Rd\, Acworth\, GA 30102
UID:e.1202.172065
SEQUENCE:3
DTSTAMP:20260421T231331Z
URL:https://business.cartersvillechamber.com/events/details/pewter-pour-11-23-2025-172065
END:VEVENT

END:VCALENDAR
