BEGIN:VCALENDAR
VERSION:2.0
PRODID:-//ChamberMaster//Event Calendar 2.0//EN
METHOD:PUBLISH
X-PUBLISHED-TTL:P3D
REFRESH-INTERVAL:P3D
CALSCALE:GREGORIAN
BEGIN:VEVENT
DTSTART:20250225T230000Z
DTEND:20250226T013000Z
X-MICROSOFT-CDO-ALLDAYEVENT:FALSE
SUMMARY:Phlebotomy Technician (Through 5/29/25)
DESCRIPTION:Train to become a Phlebotomy Technician in as little as 3 months! As a Phlebotomy Technician\, you will be trained to draw blood samples from patients in a clinical laboratory or public health setting\, producing quality results while gaining the trust and confidence of your patients. Receive hands-on training in venipuncture\, capillary draws\, heel sticks\, and non-blood specimens. Topics covered include anatomy of the circulatory system\, medical terminology\, quality assurance\, HIPAA\, and infection control. CPR certification and NHA certification exam and exam prep materials included in tuition.
X-ALT-DESC;FMTTYPE=text/html:Train to become a Phlebotomy Technician in as little as 3 months! As a Phlebotomy Technician\, you will be trained to draw blood samples from patients in a clinical laboratory or public health setting\, producing quality results while gaining the trust and confidence of your patients. Receive hands-on training in venipuncture\, capillary draws\, heel sticks\, and non-blood specimens. Topics covered include anatomy of the circulatory system\, medical terminology\, quality assurance\, HIPAA\, and infection control. CPR certification and NHA certification exam and exam prep materials included in tuition.
LOCATION:GHC Cartersville Campus
UID:e.1202.167629
SEQUENCE:3
DTSTAMP:20260422T115459Z
URL:https://business.cartersvillechamber.com/events/details/phlebotomy-technician-through-5-29-25-167629
END:VEVENT

END:VCALENDAR
