BEGIN:VCALENDAR
VERSION:2.0
PRODID:-//ChamberMaster//Event Calendar 2.0//EN
METHOD:PUBLISH
X-PUBLISHED-TTL:P3D
REFRESH-INTERVAL:P3D
CALSCALE:GREGORIAN
BEGIN:VEVENT
DTSTART:20251108T190000Z
DTEND:20251108T200000Z
X-MICROSOFT-CDO-ALLDAYEVENT:FALSE
SUMMARY:Pioneer Crafts: Corn Dollies
DESCRIPTION:Join us at Red Top Mountain State Park to learn how to make corn dollies! We will explore the history of corn dollies and their symbolism. Once we finish\, you will have the opportunity to take home your creation and use it to decorate your home for the fall season. If you're interested in this forgotten art\, call the Visitor Center today to reserve your spot! Materials will be supplied. If you have any questions about the program\, please call the Visitor Center or email us at redtopprogram@gmail.com.
X-ALT-DESC;FMTTYPE=text/html:Join us at Red Top Mountain State Park to learn how to make corn dollies! We will explore the history of corn dollies and their symbolism. Once we finish\, you will have the opportunity to take home your creation and use it to decorate your home for the fall season. If you&#39\;re interested in this forgotten art\, call the Visitor Center today to reserve your spot! Materials will be supplied. If you have any questions about the program\, please call the Visitor Center or email us at redtopprogram@gmail.com.
LOCATION:Red Top Mountain State Park 50 Lodge Rd. Acworth\, GA 30102
UID:e.1202.172001
SEQUENCE:3
DTSTAMP:20260421T231439Z
URL:https://business.cartersvillechamber.com/events/details/pioneer-crafts-corn-dollies-172001
END:VEVENT

END:VCALENDAR
