BEGIN:VCALENDAR
VERSION:2.0
PRODID:-//ChamberMaster//Event Calendar 2.0//EN
METHOD:PUBLISH
X-PUBLISHED-TTL:P3D
REFRESH-INTERVAL:P3D
CALSCALE:GREGORIAN
BEGIN:VEVENT
DTSTART:20240624T130000Z
DTEND:20240628T160000Z
X-MICROSOFT-CDO-ALLDAYEVENT:FALSE
SUMMARY:Pirate Party Summer Camp
DESCRIPTION:Arrrrrgh\, mateys! If it's adventure you seek\, look no further than the Bartow History Museum! Join us for a week-long camp as we recount pirate tales\, sing sea shanties\, and perhaps even uncover buried treasure! *This camp is tailored for children aged 5 to 7 years old.
X-ALT-DESC;FMTTYPE=text/html:Arrrrrgh\, mateys! If it&rsquo\;s adventure you seek\, look no further than the Bartow History Museum! Join us for a week-long camp as we recount pirate tales\, sing sea shanties\, and perhaps even uncover buried treasure! *This camp is tailored for children aged 5 to 7 years old.
LOCATION:Bartow History Museum 4 E. Church Street Cartersville\, GA 30120
UID:e.1202.164324
SEQUENCE:3
DTSTAMP:20260422T230936Z
URL:https://business.cartersvillechamber.com/events/details/pirate-party-summer-camp-164324
END:VEVENT

END:VCALENDAR
