BEGIN:VCALENDAR
VERSION:2.0
PRODID:-//ChamberMaster//Event Calendar 2.0//EN
METHOD:PUBLISH
X-PUBLISHED-TTL:P3D
REFRESH-INTERVAL:P3D
CALSCALE:GREGORIAN
BEGIN:VEVENT
DTSTART:20240905T130000Z
DTEND:20240905T200000Z
X-MICROSOFT-CDO-ALLDAYEVENT:FALSE
SUMMARY:PowerPoint Presentations
DESCRIPTION:Create professional presentations quickly using templates\, designs\, and graphic elements. Efficiently manage multiple versions of your presentation with Custom Shows within a single file for convenient access. Create slide shows that will dazzle your audience!
X-ALT-DESC;FMTTYPE=text/html:Create professional presentations quickly using templates\, designs\, and graphic elements. Efficiently manage multiple versions of your presentation with Custom Shows within a single file for convenient access. Create slide shows that will dazzle your audience!
LOCATION:GHC Cartersville Campus
UID:e.1202.166150
SEQUENCE:3
DTSTAMP:20260422T185008Z
URL:https://business.cartersvillechamber.com/events/details/powerpoint-presentations-166150
END:VEVENT

END:VCALENDAR
