BEGIN:VCALENDAR
VERSION:2.0
PRODID:-//ChamberMaster//Event Calendar 2.0//EN
METHOD:PUBLISH
X-PUBLISHED-TTL:P3D
REFRESH-INTERVAL:P3D
CALSCALE:GREGORIAN
BEGIN:VEVENT
DTSTART:20260216T150000Z
DTEND:20260216T190000Z
X-MICROSOFT-CDO-ALLDAYEVENT:FALSE
SUMMARY:President's Day: Presidents Across America
DESCRIPTION:President's Day: Presidents Across America\n\n\n\nFebruary 16\, 2026 @ 10:00 am - 2:00 pm\n\nBooth Western Art Museum\n\n\n\nPresidents Across America: A Hands-On History Day invites families to see the nation through the lives of its presidents - without leaving Cartersville. Participants will journey state by state through interactive activities that blend art\, movement\, and history\, including building a D.C.-inspired monument\, crafting Lincoln-era portraits in Illinois\, designing bold Pop Art postcards from California\, racing through a Texas ranch obstacle course\, and creating a commemorative medal celebrating Georgia's own Jimmy Carter. It's an energetic\, creative way to experience U.S. history together\, presented jointly with the Booth Western Art Museum.\n\n\n\nRegistration deadline is Friday\, February 13 at 5 p.m.\; ages 4 and up\; child admission $6\, adult admission $5. Register Online.
X-ALT-DESC;FMTTYPE=text/html:President&#39\;s Day: Presidents Across America<br />\n<br />\nFebruary 16\, 2026 @ 10:00 am - 2:00 pm<br />\nBooth Western Art Museum<br />\n<br />\nPresidents Across America: A Hands-On History Day invites families to see the nation through the lives of its presidents - without leaving Cartersville. Participants will journey state by state through interactive activities that blend art\, movement\, and history\, including building a D.C.-inspired monument\, crafting Lincoln-era portraits in Illinois\, designing bold Pop Art postcards from California\, racing through a Texas ranch obstacle course\, and creating a commemorative medal celebrating Georgia&rsquo\;s own Jimmy Carter. It&rsquo\;s an energetic\, creative way to experience U.S. history together\, presented jointly with the Booth Western Art Museum.<br />\n<br />\nRegistration deadline is Friday\, February 13 at 5 p.m.\; ages 4 and up\; child admission $6\, adult admission $5. <a href="https://79494.blackbaudhosting.com/79494/Presidents-Day--Presidents-Across-America" target="_blank">Register Online</a>.<br />\n
LOCATION:Booth Western Art Museum 501 Museum Drive Cartersville\, GA 30120
UID:e.1202.173602
SEQUENCE:3
DTSTAMP:20260421T185947Z
URL:https://business.cartersvillechamber.com/events/details/president-s-day-presidents-across-america-173602
END:VEVENT

END:VCALENDAR
