BEGIN:VCALENDAR
VERSION:2.0
PRODID:-//ChamberMaster//Event Calendar 2.0//EN
METHOD:PUBLISH
X-PUBLISHED-TTL:P3D
REFRESH-INTERVAL:P3D
CALSCALE:GREGORIAN
BEGIN:VEVENT
DTSTART:20250722T120000Z
DTEND:20250722T150000Z
X-MICROSOFT-CDO-ALLDAYEVENT:FALSE
SUMMARY:Problem-Solving and Decision-Making
DESCRIPTION:Problem-Solving and Decision-Making
X-ALT-DESC;FMTTYPE=text/html:Problem-Solving and Decision-Making
LOCATION:GHC Cartersville Campus
UID:e.1202.171073
SEQUENCE:3
DTSTAMP:20260422T045817Z
URL:https://business.cartersvillechamber.com/events/details/problem-solving-and-decision-making-07-22-2025-171073
END:VEVENT

END:VCALENDAR
