BEGIN:VCALENDAR
VERSION:2.0
PRODID:-//ChamberMaster//Event Calendar 2.0//EN
METHOD:PUBLISH
X-PUBLISHED-TTL:P3D
REFRESH-INTERVAL:P3D
CALSCALE:GREGORIAN
BEGIN:VEVENT
DTSTART:20251216T130000Z
DTEND:20251216T160000Z
X-MICROSOFT-CDO-ALLDAYEVENT:FALSE
SUMMARY:Problem-Solving and Decision-Making
DESCRIPTION:Customized for your front-line leaders\, our three-hour workshops are designed to provide essential skills for success. Presented in easily digestible segments\, these workshops concentrate on crucial abilities that deliver significant results without interrupting your team's daily workflow. This workshop empowers you to effectively tackle challenges\, make sound decisions\, and foster a culture of accountability within your team.
X-ALT-DESC;FMTTYPE=text/html:Customized for your front-line leaders\, our three-hour workshops are designed to provide essential skills for success. Presented in easily digestible segments\, these workshops concentrate on crucial abilities that deliver significant results without interrupting your team&rsquo\;s daily workflow. This workshop empowers you to effectively tackle challenges\, make sound decisions\, and foster a culture of accountability within your team.
LOCATION:
UID:e.1202.171871
SEQUENCE:3
DTSTAMP:20260421T214310Z
URL:https://business.cartersvillechamber.com/events/details/problem-solving-and-decision-making-12-16-2025-171871
END:VEVENT

END:VCALENDAR
