BEGIN:VCALENDAR
VERSION:2.0
PRODID:-//ChamberMaster//Event Calendar 2.0//EN
METHOD:PUBLISH
X-PUBLISHED-TTL:P3D
REFRESH-INTERVAL:P3D
CALSCALE:GREGORIAN
BEGIN:VEVENT
DTSTART:20260219T200000Z
DTEND:20260219T220000Z
X-MICROSOFT-CDO-ALLDAYEVENT:FALSE
SUMMARY:Puzzle Challenge
DESCRIPTION:Gather all your friends and family for a puzzle challenge! \n\nTry and beat the clock with your puzzle team as you put together 300 or 500 piece puzzles. \n\nAll ages are welcome (parents will need to help children with their puzzles/no kids only teams). \n\nRegistration is required. Give us a call at 770-382-4203
X-ALT-DESC;FMTTYPE=text/html:<span style="color:rgb(62\, 62\, 62)\; font-family:system-ui\; font-size:12.8px">Gather all your friends and family for a puzzle challenge!&nbsp\;</span><br />\n<span style="color:rgb(62\, 62\, 62)\; font-family:system-ui\; font-size:12.8px">Try and beat the clock with your puzzle team as you put together 300 or 500 piece puzzles.&nbsp\;</span><br />\n<span style="color:rgb(62\, 62\, 62)\; font-family:system-ui\; font-size:12.8px">All ages are welcome (parents will need to help children with their puzzles/no kids only teams).&nbsp\;</span><br />\n<span style="color:rgb(62\, 62\, 62)\; font-family:system-ui\; font-size:12.8px">Registration is required. Give us a call at 770-382-4203</span>
LOCATION:Cartersville Public Library
UID:e.1202.173434
SEQUENCE:3
DTSTAMP:20260421T173915Z
URL:https://business.cartersvillechamber.com/events/details/puzzle-challenge-02-19-2026-173434
END:VEVENT

END:VCALENDAR
