BEGIN:VCALENDAR
VERSION:2.0
PRODID:-//ChamberMaster//Event Calendar 2.0//EN
METHOD:PUBLISH
X-PUBLISHED-TTL:P3D
REFRESH-INTERVAL:P3D
CALSCALE:GREGORIAN
BEGIN:VEVENT
DTSTART:20250408T220000Z
DTEND:20250408T233000Z
X-MICROSOFT-CDO-ALLDAYEVENT:FALSE
SUMMARY:Puzzle Challenge
DESCRIPTION:Think you're good at jigsaw puzzles? Put your skills to the test and join our puzzle challenge! We will be hosting a puzzle competition to see which patron can complete the highest percentage of a 300 or 500-pience puzzle within our time limit. Registration is required. Puzzles will be provided. The patron with the highest percentage completed will win a prize! Register at the Reference Desk at the Cartersville Library\, or give us a call at 770-382-4203 ext. 138.
X-ALT-DESC;FMTTYPE=text/html:<span style="color:rgb(62\, 62\, 62)\; font-family:system-ui\; font-size:12.8px">Think you&rsquo\;re good at jigsaw puzzles? Put your skills to the test and join our puzzle challenge! We will be hosting a puzzle competition to see which patron can complete the highest percentage of a 300 or 500-pience puzzle within our time limit. Registration is required. Puzzles will be provided. The patron with the highest percentage completed will win a prize! Register at the Reference Desk at the Cartersville Library\, or give us a call at 770-382-4203 ext. 138.</span>
LOCATION:Cartersville Library Meeting Room
UID:e.1202.170291
SEQUENCE:3
DTSTAMP:20260422T091449Z
URL:https://business.cartersvillechamber.com/events/details/puzzle-challenge-04-08-2025-170291
END:VEVENT

END:VCALENDAR
