BEGIN:VCALENDAR
VERSION:2.0
PRODID:-//ChamberMaster//Event Calendar 2.0//EN
METHOD:PUBLISH
X-PUBLISHED-TTL:P3D
REFRESH-INTERVAL:P3D
CALSCALE:GREGORIAN
BEGIN:VEVENT
DTSTART:20240520T140000Z
DTEND:20240520T190000Z
X-MICROSOFT-CDO-ALLDAYEVENT:FALSE
SUMMARY:Quilting 101
DESCRIPTION:Join the Etowah Valley Quilt Guild and learn quilting techniques. Hand and Machine quilting techniques will be covered. Bring your sewing machine.
X-ALT-DESC;FMTTYPE=text/html:Join the Etowah Valley Quilt Guild and learn quilting techniques. Hand and Machine quilting techniques will be covered. Bring your sewing machine.
LOCATION:Cartersville Library Classroom 429 West Main Street Cartersville GA 30120 US
UID:e.1202.164375
SEQUENCE:3
DTSTAMP:20260423T004151Z
URL:https://business.cartersvillechamber.com/events/details/quilting-101-05-20-2024-164375
END:VEVENT

END:VCALENDAR
