BEGIN:VCALENDAR
VERSION:2.0
PRODID:-//ChamberMaster//Event Calendar 2.0//EN
METHOD:PUBLISH
X-PUBLISHED-TTL:P3D
REFRESH-INTERVAL:P3D
CALSCALE:GREGORIAN
BEGIN:VEVENT
DTSTART:20250910T133000Z
DTEND:20250910T150000Z
X-MICROSOFT-CDO-ALLDAYEVENT:FALSE
SUMMARY:Read to Grow Kickoff
DESCRIPTION:Read to Grow Kickoff\n\nFor New and Returning Volunteers\n\n\n\nPlease join us at the Bartow County College & Career Academy on Wednesday\, September 10 from 9:30 AM to 11:00 AM. Learn about expectations for Read to Grow for the 25-26 school year\, renew your background check\, and tour the College and Career Academy. Anyone interested is welcome to attend.\n\n\n\nRead to Grow begins the week of 09/15/25.
X-ALT-DESC;FMTTYPE=text/html:Read to Grow Kickoff<br />\nFor New and Returning Volunteers<br />\n<br />\nPlease join us at the Bartow County College &amp\; Career Academy on Wednesday\, September 10 from 9:30 AM to 11:00 AM. Learn about expectations for Read to Grow for the 25-26 school year\, renew your background check\, and tour the College and Career Academy. Anyone interested is welcome to attend.<br />\n<br />\nRead to Grow begins the week of 09/15/25.
LOCATION:Bartow County College & Career Academy
UID:e.1202.171804
SEQUENCE:3
DTSTAMP:20260422T020857Z
URL:https://business.cartersvillechamber.com/events/details/read-to-grow-kickoff-171804
END:VEVENT

END:VCALENDAR
