BEGIN:VCALENDAR
VERSION:2.0
PRODID:-//ChamberMaster//Event Calendar 2.0//EN
METHOD:PUBLISH
X-PUBLISHED-TTL:P3D
REFRESH-INTERVAL:P3D
CALSCALE:GREGORIAN
BEGIN:VEVENT
DTSTART:20250116T200000Z
DTEND:20250116T220000Z
X-MICROSOFT-CDO-ALLDAYEVENT:FALSE
SUMMARY:Resume Workshop
DESCRIPTION:Join Iqua Nesbitt from Goodwill of North Georgia to get the latest tips and techniques for writing an organized\, effective\, and winning resume.
X-ALT-DESC;FMTTYPE=text/html:<span style="color:rgb(62\, 62\, 62)\; font-family:system-ui\; font-size:12.8px">Join Iqua Nesbitt from Goodwill of North Georgia to get the latest tips and techniques for writing an organized\, effective\, and winning resume.</span>
LOCATION:Cartersville Public Library 429 West Main St Cartersville\, GA 30120
UID:e.1202.167926
SEQUENCE:3
DTSTAMP:20260422T124835Z
URL:https://business.cartersvillechamber.com/events/details/resume-workshop-167926
END:VEVENT

END:VCALENDAR
