BEGIN:VCALENDAR
VERSION:2.0
PRODID:-//ChamberMaster//Event Calendar 2.0//EN
METHOD:PUBLISH
X-PUBLISHED-TTL:P3D
REFRESH-INTERVAL:P3D
CALSCALE:GREGORIAN
BEGIN:VEVENT
DTSTART:20260226T220000Z
DTEND:20260227T000000Z
X-MICROSOFT-CDO-ALLDAYEVENT:FALSE
SUMMARY:Retirement Reception for Dr. Bevill
DESCRIPTION:You are cordially invited to attend a Retirement Celebration in honor of Dr. Bevill\, recognizing his years of dedicated service.\n\n\n\nThursday\, February 26\, 2026\n\n5:00 PM   7:00 PM\n\n12 Medical Drive NE Cartersville\, GA 30121\n\n\n\nRefreshments will be served. This special gathering will provide an opportunity for colleagues\, friends\, and partners to express appreciation for Dr. Bevill's commitment and achievements\, as well as to wish him well as he begins this new chapter. Please feel free to share this invitation with your teams and forward it to anyone who may wish to attend but may not have been directly included. We look forward to celebrating Dr. Bevill's remarkable career together.
X-ALT-DESC;FMTTYPE=text/html:You are cordially invited to attend a Retirement Celebration in honor of Dr. Bevill\, recognizing his years of dedicated service.<br />\n<br />\nThursday\, February 26\, 2026<br />\n5:00 PM &ndash\; 7:00 PM<br />\n12 Medical Drive NE Cartersville\, GA 30121<br />\n<br />\nRefreshments will be served. This special gathering will provide an opportunity for colleagues\, friends\, and partners to express appreciation for Dr. Bevill&rsquo\;s commitment and achievements\, as well as to wish him well as he begins this new chapter. Please feel free to share this invitation with your teams and forward it to anyone who may wish to attend but may not have been directly included. We look forward to celebrating Dr. Bevill&rsquo\;s remarkable career together.
LOCATION:12 Medical Drive NE Cartersville\, Ga 30121
UID:e.1202.173615
SEQUENCE:3
DTSTAMP:20260421T173911Z
URL:https://business.cartersvillechamber.com/events/details/retirement-reception-for-dr-bevill-173615
END:VEVENT

END:VCALENDAR
