BEGIN:VCALENDAR
VERSION:2.0
PRODID:-//ChamberMaster//Event Calendar 2.0//EN
METHOD:PUBLISH
X-PUBLISHED-TTL:P3D
REFRESH-INTERVAL:P3D
CALSCALE:GREGORIAN
BEGIN:VEVENT
DTSTART:20260518T153000Z
DTEND:20260518T170000Z
X-MICROSOFT-CDO-ALLDAYEVENT:FALSE
SUMMARY:Ribbon Cutting and Grand Opening Celebration for Shift Therapy & Wellness
DESCRIPTION:Ribbon Cutting at 11:30 AM as part of the Grand Opening for Shift Therapy & Wellness which will take place on Monday\, May 18th. Following the ribbon cutting\, enjoy door prizes\, light refreshments\, and tours of the clinic.
X-ALT-DESC;FMTTYPE=text/html:Ribbon Cutting at 11:30 AM as part of the Grand Opening for Shift Therapy &amp\; Wellness which will take place on Monday\, May 18th. Following the ribbon cutting\, enjoy door prizes\, light refreshments\, and tours of the clinic.
LOCATION:23 Maple Ridge Drive SE Suite D Cartersville\, GA.
UID:e.1202.173981
SEQUENCE:3
DTSTAMP:20260424T191633Z
URL:https://business.cartersvillechamber.com/events/details/ribbon-cutting-and-grand-opening-celebration-for-shift-therapy-wellness-173981
END:VEVENT

END:VCALENDAR
