BEGIN:VCALENDAR
VERSION:2.0
PRODID:-//ChamberMaster//Event Calendar 2.0//EN
METHOD:PUBLISH
X-PUBLISHED-TTL:P3D
REFRESH-INTERVAL:P3D
CALSCALE:GREGORIAN
BEGIN:VEVENT
DTSTART:20240516T153000Z
DTEND:20240516T163000Z
X-MICROSOFT-CDO-ALLDAYEVENT:FALSE
SUMMARY:Ribbon Cutting Ceremony for 175 Main
DESCRIPTION:Ribbon Cutting ceremony for 175 Main at 11:30 AM on May 16\, 2024.
X-ALT-DESC;FMTTYPE=text/html:Ribbon Cutting ceremony for 175 Main at 11:30 AM on May 16\, 2024.
LOCATION:175 Main Street Market Place SE Cartersville\, GA 30121
UID:e.1202.164191
SEQUENCE:3
DTSTAMP:20260423T004315Z
URL:https://business.cartersvillechamber.com/events/details/ribbon-cutting-ceremony-for-175-main-164191
END:VEVENT

END:VCALENDAR
