BEGIN:VCALENDAR
VERSION:2.0
PRODID:-//ChamberMaster//Event Calendar 2.0//EN
METHOD:PUBLISH
X-PUBLISHED-TTL:P3D
REFRESH-INTERVAL:P3D
CALSCALE:GREGORIAN
BEGIN:VEVENT
DTSTART:20250311T153000Z
DTEND:20250311T163000Z
X-MICROSOFT-CDO-ALLDAYEVENT:FALSE
SUMMARY:Ribbon Cutting Ceremony for AtWork
DESCRIPTION:Please join us for a Ribbon Cutting celebrating AtWork on Tuesday\, March 11th at 11:30am\, where you can enjoy refreshments\, door prizes\, a raffle\, and photo opportunities!
X-ALT-DESC;FMTTYPE=text/html:Please join us for a Ribbon Cutting celebrating AtWork on Tuesday\, March 11th at 11:30am\, where you can enjoy refreshments\, door prizes\, a raffle\, and photo opportunities!&nbsp\;
LOCATION:221 Market Place Boulevard Cartersville\, GA 30121
UID:e.1202.168669
SEQUENCE:3
DTSTAMP:20260422T103155Z
URL:https://business.cartersvillechamber.com/events/details/ribbon-cutting-ceremony-for-atwork-168669
END:VEVENT

END:VCALENDAR
