BEGIN:VCALENDAR
VERSION:2.0
PRODID:-//ChamberMaster//Event Calendar 2.0//EN
METHOD:PUBLISH
X-PUBLISHED-TTL:P3D
REFRESH-INTERVAL:P3D
CALSCALE:GREGORIAN
BEGIN:VEVENT
DTSTART:20250325T113000Z
DTEND:20250325T133000Z
X-MICROSOFT-CDO-ALLDAYEVENT:FALSE
SUMMARY:Ribbon Cutting Ceremony for Elevate
DESCRIPTION:Come celebrate Elevate with us at a Ribbon Cutting ceremony! Drop in anytime between 7:30am and 9:30am for a complimentary coffee and take a tour of the stunning space\, located right downtown Cartersville. The Ribbon Cutting ceremony will be held at 8:00am. Don't miss this exciting event we look forward to welcoming you!
X-ALT-DESC;FMTTYPE=text/html:<p data-pm-slice="1 1 []">Come celebrate Elevate with us at a Ribbon Cutting ceremony! Drop in anytime between 7:30am and 9:30am for a complimentary coffee and take a tour of the stunning space\, located right downtown Cartersville. The Ribbon Cutting ceremony will be held at 8:00am. Don&rsquo\;t miss this exciting event&mdash\;we look forward to welcoming you!</p>\n
LOCATION:10 W Main Street Cartersville\, GA 30120
UID:e.1202.168742
SEQUENCE:3
DTSTAMP:20260422T102935Z
URL:https://business.cartersvillechamber.com/events/details/ribbon-cutting-ceremony-for-elevate-168742
END:VEVENT

END:VCALENDAR
