BEGIN:VCALENDAR
VERSION:2.0
PRODID:-//ChamberMaster//Event Calendar 2.0//EN
METHOD:PUBLISH
X-PUBLISHED-TTL:P3D
REFRESH-INTERVAL:P3D
CALSCALE:GREGORIAN
BEGIN:VEVENT
DTSTART:20250218T163000Z
DTEND:20250218T173000Z
X-MICROSOFT-CDO-ALLDAYEVENT:FALSE
SUMMARY:Ribbon Cutting Ceremony for IP Solution
DESCRIPTION:Ribbon Cutting Ceremony for IP Solution on Tuesday\, February 18\, 2025 at 11:30 AM.
X-ALT-DESC;FMTTYPE=text/html:Ribbon Cutting Ceremony for IP Solution on Tuesday\, February 18\, 2025 at 11:30 AM.
LOCATION:The Cartersville-Bartow Chamber of Commerce 122 W Main Street Cartersville\, GA 30120
UID:e.1202.168408
SEQUENCE:3
DTSTAMP:20260422T115531Z
URL:https://business.cartersvillechamber.com/events/details/ribbon-cutting-ceremony-for-ip-solution-168408
END:VEVENT

END:VCALENDAR
