BEGIN:VCALENDAR
VERSION:2.0
PRODID:-//ChamberMaster//Event Calendar 2.0//EN
METHOD:PUBLISH
X-PUBLISHED-TTL:P3D
REFRESH-INTERVAL:P3D
CALSCALE:GREGORIAN
BEGIN:VEVENT
DTSTART:20250715T153000Z
DTEND:20250715T160000Z
X-MICROSOFT-CDO-ALLDAYEVENT:FALSE
SUMMARY:Ribbon Cutting for ExtraMile Convenient Store
DESCRIPTION:Join us for a Ribbon Cutting ceremony celebrating ExtraMile Convenient Store on Tuesday\, July 15th from 11:30a-12:30p!
X-ALT-DESC;FMTTYPE=text/html:Join us for a Ribbon Cutting ceremony celebrating ExtraMile Convenient Store on Tuesday\, July 15th from 11:30a-12:30p!&nbsp\;
LOCATION:4 Charley Harper Dr Suite 100 Cartersville\, GA 30120
UID:e.1202.171049
SEQUENCE:3
DTSTAMP:20260422T050237Z
URL:https://business.cartersvillechamber.com/events/details/ribbon-cutting-for-extramile-convenient-store-171049
END:VEVENT

END:VCALENDAR
