BEGIN:VCALENDAR
VERSION:2.0
PRODID:-//ChamberMaster//Event Calendar 2.0//EN
METHOD:PUBLISH
X-PUBLISHED-TTL:P3D
REFRESH-INTERVAL:P3D
CALSCALE:GREGORIAN
BEGIN:VEVENT
DTSTART:20240806T153000Z
DTEND:20240806T163000Z
X-MICROSOFT-CDO-ALLDAYEVENT:FALSE
SUMMARY:Ribbon Cutting for Georgia Aesthetics
DESCRIPTION:Ribbon Cutting Ceremony for Georgia Aesthetics on August 6\, 2024 at 11:30 AM. Light Refreshments will be served.
X-ALT-DESC;FMTTYPE=text/html:Ribbon Cutting Ceremony for Georgia Aesthetics on August 6\, 2024 at 11:30 AM. Light Refreshments will be served.
LOCATION:1124 N. Tennessee Street Suite 101 Cartersville\, GA 30120
UID:e.1202.166132
SEQUENCE:3
DTSTAMP:20260422T202304Z
URL:https://business.cartersvillechamber.com/events/details/ribbon-cutting-for-georgia-aesthetics-166132
END:VEVENT

END:VCALENDAR
