BEGIN:VCALENDAR
VERSION:2.0
PRODID:-//ChamberMaster//Event Calendar 2.0//EN
METHOD:PUBLISH
X-PUBLISHED-TTL:P3D
REFRESH-INTERVAL:P3D
CALSCALE:GREGORIAN
BEGIN:VEVENT
DTSTART:20260505T153000Z
DTEND:20260505T163000Z
X-MICROSOFT-CDO-ALLDAYEVENT:FALSE
SUMMARY:Ribbon Cutting for Glass House Media & Design and Otto's Bakehouse
DESCRIPTION:Ribbon Cutting for Glass House Media and Otto's Bakehouse on Tuesday\, May 5 at 11:30 am. Join us for Otto's Bakehouse cookies\, other food and beverages\, and a raffle!
X-ALT-DESC;FMTTYPE=text/html:Ribbon Cutting for Glass House Media and Otto&#39\;s Bakehouse on Tuesday\, May 5 at 11:30 am. Join us for Otto&#39\;s Bakehouse cookies\, other food and beverages\, and a raffle!&nbsp\;
LOCATION:Held downtown at The Depot Welcome Center located at 1 Friendship Plaza\, Cartersville.
UID:e.1202.173985
SEQUENCE:3
DTSTAMP:20260423T172559Z
URL:https://business.cartersvillechamber.com/events/details/ribbon-cutting-for-glass-house-media-design-and-otto-s-bakehouse-173985
END:VEVENT

END:VCALENDAR
