BEGIN:VCALENDAR
VERSION:2.0
PRODID:-//ChamberMaster//Event Calendar 2.0//EN
METHOD:PUBLISH
X-PUBLISHED-TTL:P3D
REFRESH-INTERVAL:P3D
CALSCALE:GREGORIAN
BEGIN:VEVENT
DTSTART:20241114T163000Z
DTEND:20241114T173000Z
X-MICROSOFT-CDO-ALLDAYEVENT:FALSE
SUMMARY:Ribbon Cutting for MarDon Construction
DESCRIPTION:Ribbon Cutting Ceremony for MarDon Construction on November 14th at 11:30 AM.
X-ALT-DESC;FMTTYPE=text/html:Ribbon Cutting Ceremony for MarDon Construction on November 14th at 11:30 AM.&nbsp\;
LOCATION:144 Old Alabama Rd. Emerson\, GA 30137
UID:e.1202.167198
SEQUENCE:3
DTSTAMP:20260422T155139Z
URL:https://business.cartersvillechamber.com/events/details/ribbon-cutting-for-mardon-construction-167198
END:VEVENT

END:VCALENDAR
