BEGIN:VCALENDAR
VERSION:2.0
PRODID:-//ChamberMaster//Event Calendar 2.0//EN
METHOD:PUBLISH
X-PUBLISHED-TTL:P3D
REFRESH-INTERVAL:P3D
CALSCALE:GREGORIAN
BEGIN:VEVENT
DTSTART:20260611T153000Z
DTEND:20260611T163000Z
X-MICROSOFT-CDO-ALLDAYEVENT:FALSE
SUMMARY:Ribbon Cutting for Staff Source PEO
DESCRIPTION:Join us for a ribbon cutting for Staff Source PEO. Light refreshments will be served.
X-ALT-DESC;FMTTYPE=text/html:Join us for a ribbon cutting for Staff Source PEO. Light refreshments will be served.
LOCATION:8 Walnut Grove Road Cartersville\, GA 30120
UID:e.1202.174049
SEQUENCE:3
DTSTAMP:20260421T171616Z
URL:https://business.cartersvillechamber.com/events/details/ribbon-cutting-for-staff-source-peo-174049
END:VEVENT

END:VCALENDAR
