BEGIN:VCALENDAR
VERSION:2.0
PRODID:-//ChamberMaster//Event Calendar 2.0//EN
METHOD:PUBLISH
X-PUBLISHED-TTL:P3D
REFRESH-INTERVAL:P3D
CALSCALE:GREGORIAN
BEGIN:VEVENT
DTSTART:20260507T203000Z
DTEND:20260507T210000Z
X-MICROSOFT-CDO-ALLDAYEVENT:FALSE
SUMMARY:Ribbon Cutting for the New Glenda Mitchell Law Office Grand Opening
DESCRIPTION:A ribbon cutting will be held on Thursday\, May 7th at 4:30 PM as part of the Grand Opening celebration for the new Glenda Mitchell Law Firm being held from 4:00 - 6:00 PM. Enjoy food\, drinks\, live music and giveaways\, in celebration of the new location at 314 E Main Street\, Suite 200\, Cartersville.
X-ALT-DESC;FMTTYPE=text/html:A&nbsp\;ribbon cutting will be held on Thursday\, May 7th at 4:30 PM as part of the Grand Opening celebration for the new Glenda Mitchell Law Firm being held from 4:00 - 6:00 PM. Enjoy food\, drinks\, live music and giveaways\, in celebration of the new location at 314 E Main Street\, Suite 200\, Cartersville.
LOCATION:314 E Main Street Suite 200 Cartersville\, GA 30120
UID:e.1202.173619
SEQUENCE:3
DTSTAMP:20260421T102021Z
URL:https://business.cartersvillechamber.com/events/details/ribbon-cutting-for-the-new-glenda-mitchell-law-office-grand-opening-173619
END:VEVENT

END:VCALENDAR
