BEGIN:VCALENDAR
VERSION:2.0
PRODID:-//ChamberMaster//Event Calendar 2.0//EN
METHOD:PUBLISH
X-PUBLISHED-TTL:P3D
REFRESH-INTERVAL:P3D
CALSCALE:GREGORIAN
BEGIN:VEVENT
DTSTART:20260516T140000Z
DTEND:20260516T203000Z
X-MICROSOFT-CDO-ALLDAYEVENT:FALSE
SUMMARY:Ridz by the River Car Show
DESCRIPTION:Join us for the Ridz by the River car show along the beautiful Etowah River! This is an old fashion gathering of hot rods and classic cars. This is a fun\, family event\, and we hope to see you there!\n\n\n\nEnjoy some great cars\, food trucks\, raffles\, and if you want\, drop some donations in one of the buckets to support our local Backpack Buddies program to ensure no local child goes home hungry.\n\n\n\nCheck out the Facebook page for the latest updates: https://www.facebook.com/ridzbytheriver
X-ALT-DESC;FMTTYPE=text/html:Join us for the Ridz by the River car show along the beautiful Etowah River! This is an old fashion gathering of hot rods and classic cars. This is a fun\, family event\, and we hope to see you there!<br />\n<br />\nEnjoy some great cars\, food trucks\, raffles\, and if you want\, drop some donations in one of the buckets to support our local Backpack Buddies program to ensure no local child goes home hungry.<br />\n<br />\nCheck out the Facebook page for the latest updates:&nbsp\;<a href="https://www.facebook.com/ridzbytheriver" target="_blank">https://www.facebook.com/ridzbytheriver</a>
LOCATION:60 Etowah Springs Road Cartersville\, GA 30120 (use Google Maps\, not Waze)
UID:e.1202.174047
SEQUENCE:3
DTSTAMP:20260421T155237Z
URL:https://business.cartersvillechamber.com/events/details/ridz-by-the-river-car-show-174047
END:VEVENT

END:VCALENDAR
