BEGIN:VCALENDAR
VERSION:2.0
PRODID:-//ChamberMaster//Event Calendar 2.0//EN
METHOD:PUBLISH
X-PUBLISHED-TTL:P3D
REFRESH-INTERVAL:P3D
CALSCALE:GREGORIAN
BEGIN:VEVENT
DTSTART:20250312T150000Z
DTEND:20250312T160000Z
X-MICROSOFT-CDO-ALLDAYEVENT:FALSE
SUMMARY:Right Bite Diabetes Cooking School
DESCRIPTION:Struggling with meal ideas that help keep your blood sugar in check? Are you or someone you know having issues with maintaining your blood sugars? Have you become bored in the kitchen? Join us to find out more about the basics to healthy eating and cooking for blood sugar control.
X-ALT-DESC;FMTTYPE=text/html:Struggling with meal ideas that help keep your blood sugar in check? Are you or someone you know having issues with maintaining your blood sugars? Have you become bored in the kitchen? Join us to find out more about the basics to healthy eating and cooking for blood sugar control.
LOCATION:North Bartow Community Services 2397 Hall Station Rd. NW Adairsville\, GA 30103
UID:e.1202.168732
SEQUENCE:3
DTSTAMP:20260422T103155Z
URL:https://business.cartersvillechamber.com/events/details/right-bite-diabetes-cooking-school-168732
END:VEVENT

END:VCALENDAR
