BEGIN:VCALENDAR
VERSION:2.0
PRODID:-//ChamberMaster//Event Calendar 2.0//EN
METHOD:PUBLISH
X-PUBLISHED-TTL:P3D
REFRESH-INTERVAL:P3D
CALSCALE:GREGORIAN
BEGIN:VEVENT
DTSTART:20250516T120000Z
DTEND:20250516T170000Z
X-MICROSOFT-CDO-ALLDAYEVENT:FALSE
SUMMARY:River Float Cleanup
DESCRIPTION:Kick off your weekend on the water with Keep Rome-Floyd Beautiful\, Keep Bartow Beautiful\, and GA Power! We're coming together for our annual cleanup along the Etowah River-bring your kayak or use one of ours! Enjoy a day of service\, nature\, and community.
X-ALT-DESC;FMTTYPE=text/html:Kick off your weekend on the water with Keep Rome-Floyd Beautiful\, Keep Bartow Beautiful\, and GA Power! We&#39\;re coming together for our annual cleanup along the Etowah River-bring your kayak or use one of ours! Enjoy a day of service\, nature\, and community.
LOCATION:Neels Landing Boat Ramp Macedonia Rd. 411 Etowah Ramp Kingston\, GA 30145
UID:e.1202.170940
SEQUENCE:3
DTSTAMP:20260422T080050Z
URL:https://business.cartersvillechamber.com/events/details/river-float-cleanup-170940
END:VEVENT

END:VCALENDAR
