BEGIN:VCALENDAR
VERSION:2.0
PRODID:-//ChamberMaster//Event Calendar 2.0//EN
METHOD:PUBLISH
X-PUBLISHED-TTL:P3D
REFRESH-INTERVAL:P3D
CALSCALE:GREGORIAN
BEGIN:VEVENT
DTSTART:20251129T150000Z
DTEND:20251129T163000Z
X-MICROSOFT-CDO-ALLDAYEVENT:FALSE
SUMMARY:Rock n' Roll on Iron Hill
DESCRIPTION:Come join us on Iron Hill trail\, as we explore the unique geology of Red Top Mountain. We discuss the park's geological history and the the different rocks and minerals found throughout the area. We will also go over why Red Top Mountain was a popular area for mining. Let's rock n' roll! This will be a pre-register event\, so please call the Visitor Center to guarantee your spot. Make sure to wear appropriate hiking shoes\, and please remember to bring snacks and plenty of water as well. Rain gear is also recommended\, just in case the weather becomes uncooperative.
X-ALT-DESC;FMTTYPE=text/html:Come join us on Iron Hill trail\, as we explore the unique geology of Red Top Mountain. We discuss the park&#39\;s geological history and the the different rocks and minerals found throughout the area. We will also go over why Red Top Mountain was a popular area for mining. Let&#39\;s rock n&#39\; roll! This will be a pre-register event\, so please call the Visitor Center to guarantee your spot. Make sure to wear appropriate hiking shoes\, and please remember to bring snacks and plenty of water as well. Rain gear is also recommended\, just in case the weather becomes uncooperative.
LOCATION:Red Top Mountain State Park 15 Iron Hill Cove. Acworth\, GA 30102
UID:e.1202.172075
SEQUENCE:3
DTSTAMP:20260421T231132Z
URL:https://business.cartersvillechamber.com/events/details/rock-n-roll-on-iron-hill-172075
END:VEVENT

END:VCALENDAR
