BEGIN:VCALENDAR
VERSION:2.0
PRODID:-//ChamberMaster//Event Calendar 2.0//EN
METHOD:PUBLISH
X-PUBLISHED-TTL:P3D
REFRESH-INTERVAL:P3D
CALSCALE:GREGORIAN
BEGIN:VEVENT
DTSTART:20240608T140000Z
DTEND:20240609T210000Z
X-MICROSOFT-CDO-ALLDAYEVENT:FALSE
SUMMARY:RockFest 33
DESCRIPTION:Come to Tellus on June 8th and 9th for our annual rock show! With geology-themed activities and experiences for the whole family\, there's something for everyone to enjoy. RockFest features:\n\nMore than 20 vendors with unique and beautiful jewelry\, fossils\, and mineral specimens to delight every collector\n\nDoor prizes every hour\, with a grand prize drawing at the end of the weekend\n\nHands-on activities\n\nLive lapidary demonstrations\n\nOnsite mineral and fossil identification\n\nGeode cracking\n\nAnd more!\n\n\n\nThis weekend is sure to rock. Don't miss out!
X-ALT-DESC;FMTTYPE=text/html:Come to Tellus on June 8th and 9th for our annual rock show! With geology-themed activities and experiences for the whole family\, there&rsquo\;s something for everyone to enjoy. RockFest features:<br />\nMore than 20 vendors with unique and beautiful jewelry\, fossils\, and mineral specimens to delight every collector<br />\nDoor prizes every hour\, with a grand prize drawing at the end of the weekend<br />\nHands-on activities<br />\nLive lapidary demonstrations<br />\nOnsite mineral and fossil identification<br />\nGeode cracking<br />\nAnd more!<br />\n<br />\nThis weekend is sure to rock. Don&rsquo\;t miss out!
LOCATION:Tellus Science Museum 100 Tellus Drive Cartersville\, GA
UID:e.1202.164348
SEQUENCE:3
DTSTAMP:20260422T230637Z
URL:https://business.cartersvillechamber.com/events/details/rockfest-33-164348
END:VEVENT

END:VCALENDAR
