BEGIN:VCALENDAR
VERSION:2.0
PRODID:-//ChamberMaster//Event Calendar 2.0//EN
METHOD:PUBLISH
X-PUBLISHED-TTL:P3D
REFRESH-INTERVAL:P3D
CALSCALE:GREGORIAN
BEGIN:VEVENT
DTSTART:20240610T130000Z
DTEND:20240614T160000Z
X-MICROSOFT-CDO-ALLDAYEVENT:FALSE
SUMMARY:Safari Seekers Summer Camp
DESCRIPTION:Join the Bartow History Museum as we go on a safari in our museum! We'll journey from the depths of oceans to the peaks of mountains\, and across vast savannahs\, while learning about animals from around the world. Grab your pith hat\; it's time to embark on a safari! *This camp is tailored for children aged 5 to 7 years old.
X-ALT-DESC;FMTTYPE=text/html:Join the Bartow History Museum as we go on a safari in our museum! We&rsquo\;ll journey from the depths of oceans to the peaks of mountains\, and across vast savannahs\, while learning about animals from around the world. Grab your pith hat\; it&#39\;s time to embark on a safari! *This camp is tailored for children aged 5 to 7 years old.
LOCATION:Bartow History Museum 4 E. Church Street Cartersville\, GA 30120
UID:e.1202.164323
SEQUENCE:3
DTSTAMP:20260422T231016Z
URL:https://business.cartersvillechamber.com/events/details/safari-seekers-summer-camp-164323
END:VEVENT

END:VCALENDAR
