BEGIN:VCALENDAR
VERSION:2.0
PRODID:-//ChamberMaster//Event Calendar 2.0//EN
METHOD:PUBLISH
X-PUBLISHED-TTL:P3D
REFRESH-INTERVAL:P3D
CALSCALE:GREGORIAN
BEGIN:VEVENT
DTSTART:20240625T163000Z
DTEND:20240625T180000Z
X-MICROSOFT-CDO-ALLDAYEVENT:FALSE
SUMMARY:Safety Information Session
DESCRIPTION:Introducing our Safety Information Session-an exclusive preview of our new Behavior-Based Safety Leadership program\, OSHA courses\, and additional safety programs. Join Tina Brush and Jonas Motiejunas as they answer questions and discuss upcoming safety programs offered by Continuing and Professional Education.
X-ALT-DESC;FMTTYPE=text/html:Introducing our Safety Information Session-an exclusive preview of our new Behavior-Based Safety Leadership program\, OSHA courses\, and additional safety programs. Join Tina Brush and Jonas Motiejunas as they answer questions and discuss upcoming safety programs offered by Continuing and Professional Education.
LOCATION:GHC Cartersville Campus
UID:e.1202.165679
SEQUENCE:3
DTSTAMP:20260422T230556Z
URL:https://business.cartersvillechamber.com/events/details/safety-information-session-165679
END:VEVENT

END:VCALENDAR
