BEGIN:VCALENDAR
VERSION:2.0
PRODID:-//ChamberMaster//Event Calendar 2.0//EN
METHOD:PUBLISH
X-PUBLISHED-TTL:P3D
REFRESH-INTERVAL:P3D
CALSCALE:GREGORIAN
BEGIN:VEVENT
DTSTART:20251207T180000Z
DTEND:20251207T210000Z
X-MICROSOFT-CDO-ALLDAYEVENT:FALSE
SUMMARY:Santa's Garage
DESCRIPTION:December 7\, 2025 | 1:00 - 4:00 pm\n\n\n\nOh no! Have you heard the news?\n\nThe elves have fallen behind schedule\, and Santa needs all the little helpers he can find to get back on track! Grab your kiddo\, roll up your sleeves\, and join us for a holly-jolly day at Santa's Garage inside Savoy   where tiny cars are built\, ornaments sparkle\, and holiday cheer is in full overdrive!\n\n\n\nHere's what your little elf can do:\n\n  Rev up the fun by building and decorating their very own mini model car!\n\n  Cruise by the Elf Express Station and write a special note to Santa.\n\n  Hunt for shiny "sleigh" ornaments in our festive scavenger adventure!\n\n  Refuel with a cup of hot cocoa while Mrs. Claus shares the heartwarming tale of Santa and Savoy.\n\n  Snap a photo with Santa to remember your visit! (Don't forget your camera!)\n\n\n\nOn December 7\, 2025\, from 1:00 pm   4:00 pm\, join the other elves for a day of laughter\, creativity\, cocoa\, and Christmas cheer   a festive experience for the family!\n\n\n\nPlease note: Food and supplies are limited.\n\n\n\nTickets - Tickets are available at the door. Purchase online and save $2. \n\nMuseum Members   Complimentary\n\nAdults   $17.00\n\nYouth (ages 3   12)   $7\n\nChildren 2 and under - Complimentary
X-ALT-DESC;FMTTYPE=text/html:<strong>December 7\, 2025 | 1:00 - 4:00 pm</strong><br />\n<br />\n<strong>Oh no! Have you heard the news?</strong><br />\nThe elves have fallen behind schedule\, and Santa needs all the little helpers he can find to get back on track! Grab your kiddo\, roll up your sleeves\, and join us for a holly-jolly day at Santa&rsquo\;s Garage inside Savoy &mdash\; where tiny cars are built\, ornaments sparkle\, and holiday cheer is in full overdrive!<br />\n<br />\nHere&rsquo\;s what your little elf can do:<br />\n&ndash\; Rev up the fun by building and decorating their very own mini model car!<br />\n&ndash\; Cruise by the Elf Express Station and write a special note to Santa.<br />\n&ndash\; Hunt for shiny &ldquo\;sleigh&rdquo\; ornaments in our festive scavenger adventure!<br />\n&ndash\; Refuel with a cup of hot cocoa while Mrs. Claus shares the heartwarming tale of Santa and Savoy.<br />\n&ndash\; Snap a photo with Santa to remember your visit! (Don&rsquo\;t forget your camera!)<br />\n<br />\nOn December 7\, 2025\, from 1:00 pm &ndash\; 4:00 pm\, join the other elves for a day of laughter\, creativity\, cocoa\, and Christmas cheer &mdash\; a festive experience for the family!<br />\n<br />\nPlease note: Food and supplies are limited.<br />\n<br />\n<strong>Tickets</strong> - Tickets are available at the door. <a href="https://savoymuseum.org/event/santas-garage/" target="_blank">Purchase online</a> and save $2.&nbsp\;<br />\n<strong>Museum Members </strong>&ndash\; Complimentary<br />\n<strong>Adults</strong> &ndash\; $17.00<br />\n<strong>Youth</strong> (ages 3 &ndash\; 12) &ndash\; $7<br />\n<strong>Children 2 and under</strong> - Complimentary<br />\n
LOCATION:Savoy Automobile Museum 3 Savoy Lane Cartersville\, GA 30120
UID:e.1202.172138
SEQUENCE:3
DTSTAMP:20260421T214448Z
URL:https://business.cartersvillechamber.com/events/details/santa-s-garage-172138
END:VEVENT

END:VCALENDAR
