BEGIN:VCALENDAR
VERSION:2.0
PRODID:-//ChamberMaster//Event Calendar 2.0//EN
METHOD:PUBLISH
X-PUBLISHED-TTL:P3D
REFRESH-INTERVAL:P3D
CALSCALE:GREGORIAN
BEGIN:VEVENT
DTSTART:20251028T170000Z
DTEND:20251028T180000Z
X-MICROSOFT-CDO-ALLDAYEVENT:FALSE
SUMMARY:"Save Thousands with Smart Bookkeeping" Workshop
DESCRIPTION:"Save Thousands with Smart Bookkeeping" Workshop\n\n\n\nTuesday\, October 28\, 2025\, 1 PM - 2 PM\n\nFee: $15\n\n\n\nBookkeeping isn't just about keeping your records organized it's a powerful tool that can save you thousands each year. By mastering the basics\, you'll gain the financial clarity to make smarter decisions\, simplify tax season\, and set your business up for long-term success.\n\n\n\nIn this webinar\, bookkeeping expert Phyllis Johnson will walk you through practical bookkeeping steps every small business owner should know. You'll learn how to create profit and loss statements\, balance sheets\, and other essential reports\, along with tips to streamline your process and avoid costly mistakes.\n\n\n\nWhat You'll Learn:\n\n	Why smart bookkeeping is essential to your business's financial health\n	How to create a profit and loss statement and balance sheet\n	Best practices for accurately tracking income and expenses\n	How bookkeeping can simplify tax season and save you time and money\n	Proven tips and tools to make bookkeeping easier and more efficient\n\n\n\nRegister Online
X-ALT-DESC;FMTTYPE=text/html:<strong>&quot\;Save Thousands with Smart Bookkeeping</strong><strong>&quot\; Workshop<br />\n<br />\nTuesday\, October 28\, 2025\, 1 PM - 2 PM<br />\nFee: $15</strong><br />\n<br />\nBookkeeping isn&rsquo\;t just about keeping your records organized&mdash\;it&#39\;s a powerful tool that can save you thousands each year. By mastering the basics\, you&rsquo\;ll gain the financial clarity to make smarter decisions\, simplify tax season\, and set your business up for long-term success.<br />\n<br />\nIn this webinar\, bookkeeping expert Phyllis Johnson will walk you through practical bookkeeping steps every small business owner should know. You&rsquo\;ll learn how to create profit and loss statements\, balance sheets\, and other essential reports\, along with tips to streamline your process and avoid costly mistakes.<br />\n<br />\nWhat You&rsquo\;ll Learn:\n<ul>\n	<li>Why smart bookkeeping is essential to your business&rsquo\;s financial health</li>\n	<li>How to create a profit and loss statement and balance sheet</li>\n	<li>Best practices for accurately tracking income and expenses</li>\n	<li>How bookkeeping can simplify tax season and save you time and money</li>\n	<li>Proven tips and tools to make bookkeeping easier and more efficient</li>\n</ul>\n<br />\n<a href="https://www.score.org/event/bookkeeping-basics-for-small-business-owners" target="_blank"><strong>Register Online</strong></a>
LOCATION:Online Workshop
UID:e.1202.171975
SEQUENCE:3
DTSTAMP:20260422T003432Z
URL:https://business.cartersvillechamber.com/events/details/save-thousands-with-smart-bookkeeping-workshop-171975
END:VEVENT

END:VCALENDAR
