BEGIN:VCALENDAR
VERSION:2.0
PRODID:-//ChamberMaster//Event Calendar 2.0//EN
METHOD:PUBLISH
X-PUBLISHED-TTL:P3D
REFRESH-INTERVAL:P3D
CALSCALE:GREGORIAN
BEGIN:VEVENT
DTSTART:20250909T170000Z
DTEND:20250909T180000Z
X-MICROSOFT-CDO-ALLDAYEVENT:FALSE
SUMMARY:"Save Time with AI" Online Workshop
DESCRIPTION:Save Time with AI\n\n\n\nTuesday\, September 9\, 2025\, 1 PM - 2 PM\n\nOnline Workshop\n\nFee: Free\n\n\n\nCreating marketing content takes time\, but what if you could do it faster\, smarter and without losing your unique brand identity? In this webinar\, you'll learn how to use AI tools to streamline your marketing strategy and create content that works across every channel.\n\n\n\nIn this webinar\, our expert presenter will show you how to combine your expertise with AI-powered tools to generate fresh ideas\, write compelling copy\, and boost visibility with AI SEO. You'll also learn how to quickly repurpose your content for blogs\, social media\, email and video\, helping you reach more people with less effort. Finally\, you'll walk away with insider tips for refining AI-generated material so it stays professional\, authentic and true to your brand.\n\n\n\nWhat You'll Learn:\n\n	AI-assisted content planning and calendar creation\n	Tools for generating high-converting headlines and copy\n	Strategies for maintaining brand consistency with AI\n	Content repurposing techniques that multiply your efforts\n	Quality control methods to ensure professional results\n\n\n\nRegister Online
X-ALT-DESC;FMTTYPE=text/html:<strong>Save Time with AI</strong><br />\n<br />\n<strong>Tuesday\, September 9\, 2025\, 1 PM - 2 PM<br />\nOnline Workshop<br />\nFee: Free</strong><br />\n<br />\nCreating marketing content takes time\, but what if you could do it faster\, smarter and without losing your unique brand identity? In this webinar\, you&rsquo\;ll learn how to use AI tools to streamline your marketing strategy and create content that works across every channel.<br />\n<br />\nIn this webinar\, our expert presenter will show you how to combine your expertise with AI-powered tools to generate fresh ideas\, write compelling copy\, and boost visibility with AI SEO. You&rsquo\;ll also learn how to quickly repurpose your content for blogs\, social media\, email and video\, helping you reach more people with less effort. Finally\, you&rsquo\;ll walk away with insider tips for refining AI-generated material so it stays professional\, authentic and true to your brand.<br />\n<br />\nWhat You&rsquo\;ll Learn:\n<ul>\n	<li>AI-assisted content planning and calendar creation</li>\n	<li>Tools for generating high-converting headlines and copy</li>\n	<li>Strategies for maintaining brand consistency with AI</li>\n	<li>Content repurposing techniques that multiply your efforts</li>\n	<li>Quality control methods to ensure professional results</li>\n</ul>\n<br />\n<a href="https://www.score.org/event/save-time-ai-%E2%80%93-how-create-videos-emails-social-posts-and-more-faster" target="_blank">Register Online</a>
LOCATION:Online Workshop
UID:e.1202.171758
SEQUENCE:3
DTSTAMP:20260422T020718Z
URL:https://business.cartersvillechamber.com/events/details/save-time-with-ai-online-workshop-171758
END:VEVENT

END:VCALENDAR
