BEGIN:VCALENDAR
VERSION:2.0
PRODID:-//ChamberMaster//Event Calendar 2.0//EN
METHOD:PUBLISH
X-PUBLISHED-TTL:P3D
REFRESH-INTERVAL:P3D
CALSCALE:GREGORIAN
BEGIN:VEVENT
DTSTART:20250607T170000Z
DTEND:20250607T210000Z
X-MICROSOFT-CDO-ALLDAYEVENT:FALSE
SUMMARY:School's Out for Summer Celebration
DESCRIPTION:School's Out for Summer!\n\n\n\nSaturday\, June 7\, 2025\, 1 PM - 5 PM\n\nVeterans Memorial Park\n\n17 Legacy Way\, Adairsville\, GA 30103\n\n\n\nFree Admission and Free Activities!\n\nFeaturing: Monkey Jump\, Mechanical Bull\, 60 ft. Obstacle Course\, Hungree Hippos\, Premier Castle Combo\, Splash Pad\, and More!
X-ALT-DESC;FMTTYPE=text/html:School&#39\;s Out for Summer!<br />\n<br />\nSaturday\, June 7\, 2025\, 1 PM - 5 PM<br />\nVeterans Memorial Park<br />\n17 Legacy Way\, Adairsville\, GA 30103<br />\n<br />\nFree Admission and Free Activities!<br />\nFeaturing: Monkey Jump\, Mechanical Bull\, 60 ft. Obstacle Course\, Hungree Hippos\, Premier Castle Combo\, Splash Pad\, and More!
LOCATION:Veterans Memorial Park 17 Legacy Way Adairsville\, GA 30103
UID:e.1202.171035
SEQUENCE:3
DTSTAMP:20260422T063219Z
URL:https://business.cartersvillechamber.com/events/details/school-s-out-for-summer-celebration-171035
END:VEVENT

END:VCALENDAR
