BEGIN:VCALENDAR
VERSION:2.0
PRODID:-//ChamberMaster//Event Calendar 2.0//EN
METHOD:PUBLISH
X-PUBLISHED-TTL:P3D
REFRESH-INTERVAL:P3D
CALSCALE:GREGORIAN
BEGIN:VEVENT
DTSTART:20250623T130000Z
DTEND:20250627T160000Z
X-MICROSOFT-CDO-ALLDAYEVENT:FALSE
SUMMARY:Science Explorer Camp: Forensic Frenzy
DESCRIPTION:FORENSIC FRENZY: OH NO\, OUR LAB LOOKS LIKE A CRIME SCENE! Will you help us investigate these mysterious happenings? If you are up for the task\, put on your detective cap and get ready to engage in hands-on activities. Simulated crime scenes and laboratory experiments will help explorers develop their critical thinking and problem-solving skills as the practice crime scene diagramming\, fingerprinting\, spatter analysis\, and evidence collection.
X-ALT-DESC;FMTTYPE=text/html:FORENSIC FRENZY: OH NO\, OUR LAB LOOKS LIKE A CRIME SCENE! Will you help us investigate these mysterious happenings? If you are up for the task\, put on your detective cap and get ready to engage in hands-on activities. Simulated crime scenes and laboratory experiments will help explorers develop their critical thinking and problem-solving skills as the practice crime scene diagramming\, fingerprinting\, spatter analysis\, and evidence collection.
LOCATION:Tellus Science Museum 770-606-5700
UID:e.1202.170669
SEQUENCE:3
DTSTAMP:20260422T061243Z
URL:https://business.cartersvillechamber.com/events/details/science-explorer-camp-forensic-frenzy-170669
END:VEVENT

END:VCALENDAR
