BEGIN:VCALENDAR
VERSION:2.0
PRODID:-//ChamberMaster//Event Calendar 2.0//EN
METHOD:PUBLISH
X-PUBLISHED-TTL:P3D
REFRESH-INTERVAL:P3D
CALSCALE:GREGORIAN
BEGIN:VEVENT
DTSTART:20250602T130000Z
DTEND:20250606T160000Z
X-MICROSOFT-CDO-ALLDAYEVENT:FALSE
SUMMARY:Science Explorer Camp: Museum Makeover
DESCRIPTION:MUSEUM MAKEOVER: What makes you say "WOW!"? Did you know that's the first question we ask ourselves when deciding if we want something on exhibit at the museum? Now\, it's YOUR TURN to decide! During this special week\, explorers will learn what it takes to create a museum exhibit that WOWS guests. Students will take a private tour with a Tellus exhibit designer to learn the ins and outs of curating an exhibit that will teach\, excite\, and engage museum visitors. Then\, using miniature models of exhibits\, students will become the architects of their own exhibition by making a diorama of a museum gallery to take home.
X-ALT-DESC;FMTTYPE=text/html:MUSEUM MAKEOVER: What makes you say &quot\;WOW!&quot\;? Did you know that&rsquo\;s the first question we ask ourselves when deciding if we want something on exhibit at the museum? Now\, it&rsquo\;s YOUR TURN to decide! During this special week\, explorers will learn what it takes to create a museum exhibit that WOWS guests. Students will take a private tour with a Tellus exhibit designer to learn the ins and outs of curating an exhibit that will teach\, excite\, and engage museum visitors. Then\, using miniature models of exhibits\, students will become the architects of their own exhibition by making a diorama of a museum gallery to take home.
LOCATION:Tellus Science Museum
UID:e.1202.170668
SEQUENCE:3
DTSTAMP:20260422T062236Z
URL:https://business.cartersvillechamber.com/events/details/science-explorer-camp-museum-makeover-170668
END:VEVENT

END:VCALENDAR
